BEGIN:VCALENDAR
VERSION:2.0
PRODID:-//뉴트윈 소통 페이지 - ECPv6.3.3.1//NONSGML v1.0//EN
CALSCALE:GREGORIAN
METHOD:PUBLISH
X-WR-CALNAME:뉴트윈 소통 페이지
X-ORIGINAL-URL:https://newtwintower.com
X-WR-CALDESC:뉴트윈 소통 페이지 이벤트
REFRESH-INTERVAL;VALUE=DURATION:PT1H
X-Robots-Tag:noindex
X-PUBLISHED-TTL:PT1H
BEGIN:VTIMEZONE
TZID:Asia/Seoul
BEGIN:STANDARD
TZOFFSETFROM:+0900
TZOFFSETTO:+0900
TZNAME:KST
DTSTART:20230101T000000
END:STANDARD
END:VTIMEZONE
BEGIN:VEVENT
DTSTART;VALUE=DATE:20231218
DTEND;VALUE=DATE:20231222
DTSTAMP:20260425T085434
CREATED:20231213T023321Z
LAST-MODIFIED:20231213T031559Z
UID:5002-1702857600-1703203199@newtwintower.com
SUMMARY:[연말 이벤트] 군고구마가 왔어요~트윈타워에 군고구마가 왔어요~
DESCRIPTION:  \n  \n  \n연말을 맞아 전남농업협동조합과 함께 고구마 농가를 돕기 위한 군고구마를 준비했어요.\n트윈타워 1층 로비에서 직접 구워 드릴 예정이랍니다!\n군고구마는 시간 당 약 40개 정도 소량만 제작이 가능해서 모든 분들께 드리긴 어려울 수 있어요.\n하지만 예약제로 4일 동안 출근시간부터 퇴근시간까지 운영할 예정이니\,\n아래 수령 방법을 꼼꼼히 읽고 찾아와 주시면 맛있는 군고구마와 함께 기다릴게요! \n  \n어느덧 연말이 찾아왔어요. 2023년은 임직원 여러분께 어떤 해였나요? \n준공 이래 가장 큰 변화를 맞이한 트윈타워에게 올해는 잊을 수 없는 특별한 나날의 연속이었어요. \n올 한 해도 각자의 위치에서 고생한 우리 모두를 위해 트윈이가 작은 선물을 준비했어요. \n바로 겨울 하면 빼놓을 수 없는 간식\, 군고구마입니다! 🍠 \n연말 맞이 간식인 만큼 우리의 마음까지 따뜻하게 만드는 특별함을 더했는데요\, \n농업협동조합과 직거래하여 판로 부족으로 인해 쌓여있던 고구마를 공수했답니다. \n해풍을 맞고 자라 맛있기로 소문난 전남 지역 고구마를 즐기면서 농가 돕기까지 실천할 수 있어요. \n달콤하고 고소한 군고구마 냄새가 풍기는 트윈타워라니\, 정말 이색적이죠! \n앞으로 Connectwin 곳곳에서 이처럼 일상 속 소소한 즐거움을 주는 이벤트가 펼쳐질 예정이니 기대 많이 해주세요! \n소중한 분들과 함께 군고구마처럼 따뜻한 연말 보내시길 바라며 새해 복 많이 받으세요 🎉 \n  \n<이벤트 상세 정보> \n  \n일시 : 12월 18일(월) ~ 12월 21일(목) \n시간 : 9시 00분 ~ 17시 00분 *종일 \n메뉴 : 군고구마 \n장소 : 트윈타워 동/서관 1층 로비 \n \n  \n  \n수령 방법: \n1.  동/서관 1층 로비 이벤트 현장에서 고구마 예약하기 \n– 9시 ~ 17시 정각은 군고구마 나오는 시간! 매 정각에 군고구마 수령 가능 \n– 수령 희망 시간대의 예약 명단에 수기로 이름\, 연락처\, 고구마 수량(1인당 최대 2개) 기입 \nex) 9시에 이벤트 현장에 도착하여 13시 고구마 예약 가능 \nex) 10시에 이벤트 현장에 도착하였는데 14시까지 고구마 예약이 차 있을 경우 15시 고구마 예약 가능 \n  \n2.  고구마 예약 번호표 수령하기 \n  \n3. 고구마 준비 완료 안내 문자 수신 후 이벤트 현장 방문하기 \n– 고구마 예약 번호표 수령자 대상 고구마 준비 완료 시 문자 안내 예정 \n  \n4. 현장 스태프에게 예약 번호표 및 트윈이 카카오톡 친구 여부 확인 받기 \n– 트윈이와 카톡 친구하는 법 Click! \n  \n5. 고구마 수령하기! \n– n시 수령으로 예약한 고구마는 현장에서 n시 20분까지 수령 가능 \n– 20분 이후 미수령 고구마 및 노쇼로 인해 발생한 수량은 워크인 임직원에게 제공 \n  \n  \n유의 사항 : \n– 간식은 1일 1회\, 총 4일 간 수령하실 수 있어요.. \n– 예약하지 않고 워크인으로도 수령 가능하지만 제공 가능한 수량이 많지 않을 수 있어요. \n  \n 
URL:https://newtwintower.com/event/sweetpotato/
CATEGORIES:임직원 참여 이벤트
ATTACH;FMTTYPE=image/png:https://newtwintower.com/wp-content/uploads/2023/12/대지-4.png
END:VEVENT
END:VCALENDAR